BEGIN:VCALENDAR
VERSION:2.0
PRODID:-//Urban Society.Life - ECPv6.15.20//NONSGML v1.0//EN
CALSCALE:GREGORIAN
METHOD:PUBLISH
X-ORIGINAL-URL:https://urbansociety.life
X-WR-CALDESC:Events for Urban Society.Life
REFRESH-INTERVAL;VALUE=DURATION:PT1H
X-Robots-Tag:noindex
X-PUBLISHED-TTL:PT1H
BEGIN:VTIMEZONE
TZID:America/Los_Angeles
BEGIN:DAYLIGHT
TZOFFSETFROM:-0800
TZOFFSETTO:-0700
TZNAME:PDT
DTSTART:20240310T100000
END:DAYLIGHT
BEGIN:STANDARD
TZOFFSETFROM:-0700
TZOFFSETTO:-0800
TZNAME:PST
DTSTART:20241103T090000
END:STANDARD
BEGIN:DAYLIGHT
TZOFFSETFROM:-0800
TZOFFSETTO:-0700
TZNAME:PDT
DTSTART:20250309T100000
END:DAYLIGHT
BEGIN:STANDARD
TZOFFSETFROM:-0700
TZOFFSETTO:-0800
TZNAME:PST
DTSTART:20251102T090000
END:STANDARD
BEGIN:DAYLIGHT
TZOFFSETFROM:-0800
TZOFFSETTO:-0700
TZNAME:PDT
DTSTART:20260308T100000
END:DAYLIGHT
BEGIN:STANDARD
TZOFFSETFROM:-0700
TZOFFSETTO:-0800
TZNAME:PST
DTSTART:20261101T090000
END:STANDARD
END:VTIMEZONE
BEGIN:VEVENT
DTSTART;TZID=America/Los_Angeles:20251003T200000
DTEND;TZID=America/Los_Angeles:20251003T230000
DTSTAMP:20260419T095717
CREATED:20250715T001030Z
LAST-MODIFIED:20250715T001030Z
UID:10000091-1759521600-1759532400@urbansociety.life
SUMMARY:Hip Hop Bingo TEMECULA\, CA
DESCRIPTION:Get ready to vibe at Hip Hop Bingo\, where old-new school Hip Hop & RnB beats meet the excitement of a classic game with a spin!
URL:https://urbansociety.life/event/hip-hop-bingo-temecula-ca-3/
LOCATION:Shooters Sports Bar & Grill\, 28950 Old Town Front Street\, ##102\, Temecula\, CA\, 92590\, United States
CATEGORIES:Nightlife
ATTACH;FMTTYPE=image/jpeg:https://urbansociety.life/wp-content/uploads/2025/07/7933bdf76b5b3f527aa618013d5eeb02.jpg
END:VEVENT
BEGIN:VEVENT
DTSTART;TZID=America/Los_Angeles:20250905T200000
DTEND;TZID=America/Los_Angeles:20250905T230000
DTSTAMP:20260419T095717
CREATED:20250715T001030Z
LAST-MODIFIED:20250715T001030Z
UID:10000090-1757102400-1757113200@urbansociety.life
SUMMARY:Hip Hop Bingo TEMECULA\, CA
DESCRIPTION:Get ready to vibe at Hip Hop Bingo\, where old-new school Hip Hop & RnB beats meet the excitement of a classic game with a spin!
URL:https://urbansociety.life/event/hip-hop-bingo-temecula-ca-2/
LOCATION:Shooters Sports Bar & Grill\, 28950 Old Town Front Street\, ##102\, Temecula\, CA\, 92590\, United States
CATEGORIES:Nightlife
ATTACH;FMTTYPE=image/jpeg:https://urbansociety.life/wp-content/uploads/2025/07/7933bdf76b5b3f527aa618013d5eeb02.jpg
END:VEVENT
BEGIN:VEVENT
DTSTART;TZID=America/Los_Angeles:20250801T200000
DTEND;TZID=America/Los_Angeles:20250801T230000
DTSTAMP:20260419T095717
CREATED:20250715T001030Z
LAST-MODIFIED:20250715T001030Z
UID:10000089-1754078400-1754089200@urbansociety.life
SUMMARY:Hip Hop Bingo TEMECULA\, CA
DESCRIPTION:Get ready to vibe at Hip Hop Bingo\, where old-new school Hip Hop & RnB beats meet the excitement of a classic game with a spin!
URL:https://urbansociety.life/event/hip-hop-bingo-temecula-ca/
LOCATION:Shooters Sports Bar & Grill\, 28950 Old Town Front Street\, ##102\, Temecula\, CA\, 92590\, United States
CATEGORIES:Nightlife
ATTACH;FMTTYPE=image/jpeg:https://urbansociety.life/wp-content/uploads/2025/07/7933bdf76b5b3f527aa618013d5eeb02.jpg
END:VEVENT
END:VCALENDAR