BEGIN:VCALENDAR
VERSION:2.0
PRODID:-//Urban Society.Life - ECPv6.15.20//NONSGML v1.0//EN
CALSCALE:GREGORIAN
METHOD:PUBLISH
X-ORIGINAL-URL:https://urbansociety.life
X-WR-CALDESC:Events for Urban Society.Life
REFRESH-INTERVAL;VALUE=DURATION:PT1H
X-Robots-Tag:noindex
X-PUBLISHED-TTL:PT1H
BEGIN:VTIMEZONE
TZID:America/Los_Angeles
BEGIN:DAYLIGHT
TZOFFSETFROM:-0800
TZOFFSETTO:-0700
TZNAME:PDT
DTSTART:20240310T100000
END:DAYLIGHT
BEGIN:STANDARD
TZOFFSETFROM:-0700
TZOFFSETTO:-0800
TZNAME:PST
DTSTART:20241103T090000
END:STANDARD
BEGIN:DAYLIGHT
TZOFFSETFROM:-0800
TZOFFSETTO:-0700
TZNAME:PDT
DTSTART:20250309T100000
END:DAYLIGHT
BEGIN:STANDARD
TZOFFSETFROM:-0700
TZOFFSETTO:-0800
TZNAME:PST
DTSTART:20251102T090000
END:STANDARD
BEGIN:DAYLIGHT
TZOFFSETFROM:-0800
TZOFFSETTO:-0700
TZNAME:PDT
DTSTART:20260308T100000
END:DAYLIGHT
BEGIN:STANDARD
TZOFFSETFROM:-0700
TZOFFSETTO:-0800
TZNAME:PST
DTSTART:20261101T090000
END:STANDARD
END:VTIMEZONE
BEGIN:VEVENT
DTSTART;TZID=America/Los_Angeles:20250926T193000
DTEND;TZID=America/Los_Angeles:20250926T223000
DTSTAMP:20260423T085834
CREATED:20250810T034224Z
LAST-MODIFIED:20250810T034224Z
UID:10000106-1758915000-1758925800@urbansociety.life
SUMMARY:Bearded Pianist & Poundcake at El After Social Club
DESCRIPTION:Experience R&B\, jazz\, and soulful grooves with Bearded Pianist & Poundcake live Sept 26 at El After Social Club. Get your tickets today!\n\n\nMark your calendars for Friday\, September 26 — an evening of smooth R&B\, jazzy rhythms\, and soulful vibes as Bearded Pianist and Poundcake light up El After Social Club. \nThe Bearded Pianist delivers a rich fusion of R&B and jazz — a far cry from the classical stereotype — creating an intimate\, feel-good soundtrack for your night. Poundcake keeps the energy high with their soulful sound\, perfect for dancing or just soaking up the groove. \n✨ Early Bird Pricing – Lock in your spot now for the best deal.🍹 Food & Drink Specials – Savor delicious bites and refreshing cocktails.🥂 VIP Tables –Book your non-refundable deposit to reserve your premium experience. \n📅 Date: Friday\, September 26🕘 Time: Doors open at 6:30 PM📍 Location: El After Social Club\, Downtown San Diego🎟 21+ Event – Valid ID required \nWhether you’re planning a night out with friends or a special date night\, this is your chance to enjoy an unforgettable evening of live music and great company.
URL:https://urbansociety.life/event/bearded-pianist-poundcake-at-el-after-social-club/
LOCATION:El After Social Club\, 815 Fifth Avenue\, San Diego\, CA\, 92101\, United States
CATEGORIES:Live Music
ATTACH;FMTTYPE=image/jpeg:https://urbansociety.life/wp-content/uploads/2025/08/8b2dfbee0d5bc00524a92dfe8a74d4f4.jpg
END:VEVENT
BEGIN:VEVENT
DTSTART;TZID=America/Los_Angeles:20250920T193000
DTEND;TZID=America/Los_Angeles:20250920T223000
DTSTAMP:20260423T085834
CREATED:20250810T034045Z
LAST-MODIFIED:20250810T034045Z
UID:10000105-1758396600-1758407400@urbansociety.life
SUMMARY:Live Music Night with Erisa Nicole at El After Social Club
DESCRIPTION:Smooth R&B with Erisa Nicole at El After! Early bird tickets\, drink specials\, and VIP tables available. RSVP now!\n\n\nJoin us for an unforgettable evening of soulful vocals\, smooth R&B vibes\, and feel-good energy as Erisa Nicole takes the stage at El After Social Club. Whether you’re here for the music\, the atmosphere\, or the company\, this is a night you won’t want to miss. \nEvent Details: \nDate: September 20\, 2025 \nTime: Doors open at 6:30PM | Show starts at 7:00PM \n📍 Location: El After Social Club\, Downtown San Diego \n🎟 Tickets & RSVP: \n\nEarly Bird Pricing – Grab your spot now for the best deal!\nReserve your tickets through Eventbrite today before they’re gone.\n\n🍹 Food & Drink Specials: Enjoy exclusive drink specials and bites all night long to keep you fueled for the music and good times. \n💫 VIP Tables: Make it a night to remember with the VIP experience — premium seating\, elevated service\, and the perfect view of the stage.📲 Grab your table reservation today! \n🎶 Why You Should Come: \nFrom start to finish\, Erisa Nicole delivers a performance that blends passion\, energy\, and artistry. Bring your crew\, sip on your favorites\, and get lost in the music.
URL:https://urbansociety.life/event/live-music-night-with-erisa-nicole-at-el-after-social-club/
LOCATION:El After Social Club\, 815 Fifth Avenue\, San Diego\, CA\, 92101\, United States
CATEGORIES:Live Music
ATTACH;FMTTYPE=image/jpeg:https://urbansociety.life/wp-content/uploads/2025/08/75ecc7fa09547ee50364e4768cfd4965.jpg
END:VEVENT
BEGIN:VEVENT
DTSTART;TZID=America/Los_Angeles:20250914T120000
DTEND;TZID=America/Los_Angeles:20250914T150000
DTSTAMP:20260423T085834
CREATED:20250828T075358Z
LAST-MODIFIED:20250828T075358Z
UID:10000109-1757851200-1757862000@urbansociety.life
SUMMARY:Enchanted Brunch at Understory Bar
DESCRIPTION:Join us on Sunday\, September 14th from 12 PM to 3 PM for an unforgettable Enchanted Brunch at Understory Bar in Del Mar. Presented by Urban Society and La Pied Suga Hospitality\, this brunch is all about delicious bites and soulful vibes. \nSavor brunch offerings from Sky Deck neighbors Crafthouse and Urbana\, and let DJ Sidewalk set the mood with the best R&B and feel-good music. Plus\, enjoy new signature cocktails featuring Mount Gay Rum and Remy Martin. Don’t miss out on this magical brunch experience!
URL:https://urbansociety.life/event/enchanted-brunch-at-understory-bar/
LOCATION:Understory Bar\, 12841 El Camino Real Suite 209-210\, San Diego\, CA\, 92130\, United States
CATEGORIES:Brunch/Day Party
ATTACH;FMTTYPE=image/jpeg:https://urbansociety.life/wp-content/uploads/2025/08/en12.jpg
END:VEVENT
END:VCALENDAR