BEGIN:VCALENDAR
VERSION:2.0
PRODID:-//Urban Society.Life - ECPv6.15.20//NONSGML v1.0//EN
CALSCALE:GREGORIAN
METHOD:PUBLISH
X-ORIGINAL-URL:https://urbansociety.life
X-WR-CALDESC:Events for Urban Society.Life
REFRESH-INTERVAL;VALUE=DURATION:PT1H
X-Robots-Tag:noindex
X-PUBLISHED-TTL:PT1H
BEGIN:VTIMEZONE
TZID:America/Los_Angeles
BEGIN:DAYLIGHT
TZOFFSETFROM:-0800
TZOFFSETTO:-0700
TZNAME:PDT
DTSTART:20240310T100000
END:DAYLIGHT
BEGIN:STANDARD
TZOFFSETFROM:-0700
TZOFFSETTO:-0800
TZNAME:PST
DTSTART:20241103T090000
END:STANDARD
BEGIN:DAYLIGHT
TZOFFSETFROM:-0800
TZOFFSETTO:-0700
TZNAME:PDT
DTSTART:20250309T100000
END:DAYLIGHT
BEGIN:STANDARD
TZOFFSETFROM:-0700
TZOFFSETTO:-0800
TZNAME:PST
DTSTART:20251102T090000
END:STANDARD
BEGIN:DAYLIGHT
TZOFFSETFROM:-0800
TZOFFSETTO:-0700
TZNAME:PDT
DTSTART:20260308T100000
END:DAYLIGHT
BEGIN:STANDARD
TZOFFSETFROM:-0700
TZOFFSETTO:-0800
TZNAME:PST
DTSTART:20261101T090000
END:STANDARD
END:VTIMEZONE
BEGIN:VEVENT
DTSTART;TZID=America/Los_Angeles:20251004T150000
DTEND;TZID=America/Los_Angeles:20251004T210000
DTSTAMP:20260425T122151
CREATED:20250910T081245Z
LAST-MODIFIED:20250910T081245Z
UID:10000145-1759590000-1759611600@urbansociety.life
SUMMARY:Nigerian Independence Celebration
DESCRIPTION:Nigerian Independence day party filled with Afrobeats\, Dancehall & Hip-Hop\n\n\n🇳🇬 4th Annual Nigerian Independence Day Party 🇳🇬 \nFrom the taste of jollof to the sound of Fela\, from childhood memories of Independence Day parades to dancing under the stars in San Diego! \nHome away from home. \nThis year marks our 4th celebration\, and we’re bringing that same Naija spirit that’s kept us together since day one. \nWhether you were raised in Lagos\, Abuja\, Port Harcourt or just grew up hearing your parents play Sunny Ade on Sundays\, this day is for you. \n🟢 Great music \n⚪ Real vibes \n🟢 Beautiful people \n⚪ Naija food \n🟢 A celebration of culture\, unity\, and pride \nPull up in green & white. Come ready to dance. Come ready to remember. \n\n\nNaija Independence Celebration Details \n\nLocation: Blu Cabana\, 1786 National Ave\, San Diego\, CA 92113\nDate: October 4th\, 2024\nTime: 3PM – 9PM\nEntry requiement: 21+ & over with proper ID\nDress code: green and white 🇳🇬\nMusic: Afrobeats\, Hip Hop\, Dancehall & More\nRefreshments: drinks and food available for purchase\n\nContact us for more information & special reservations: Text 619-268-1349 and/or email team@umoja-ent.com. \n\n\nRIDE SHARING IS HIGHLY RECOMMENDED\nDue to limited parking\, we encourage our guests to use Ride Sharing apps (i.e. Uber\, Lyft\, etc.) for transportation to and from the event. Bring your positive vibes & great energy! Hope to see you there! \n\n\nFrequently Asked Questions\n\nWhat is your refund policy? All sales are final. There will be no refunds issued.\nWhat is the minimum age requirement? This is a 21 & up event. No one under the age of 21 will be allowed in. IDs will be checked at the door.\nDo I have to print out my ticket? Printed or electronic tickets will be accepted at the door. Not having your ticket at the door will result in you having to purchase another ticket at the door.\nWill my ticket be good all day? Tickets are guaranteed until we are at capacity. It is advised that all persons purchasing a ticket online\, get there before we hit capacity to be guaranteed entry.\nWill there be table reservations/bottle service available? Birthday reservations\, food and bottle service will be available through the venue at venue prices. All table purchases guarantee tables until the end of the event. All bottle service/table reservation should be made by sending a DM to @Umoja.ent on instagram or Text 619-268-1349. If you are interested in bottle service\, contact us.\n\nDisclaimer: By purchasing tickets to this event you grant permission to use your likeness in photograph(s) and or in any publications or publicity materials (including but not limited to books\, newsletters\, videos and web use)\, in perpetuity. you agree not to make monetary or other claim against anyone for the use of the photograph(s) and video(s).
URL:https://urbansociety.life/event/nigerian-independence-celebration/
LOCATION:1786 National Ave\, 1786 National Avenue\, San Diego\, CA\, 92113\, United States
ATTACH;FMTTYPE=image/jpeg:https://urbansociety.life/wp-content/uploads/2025/09/eb17f872524b35acf1bdfb28714fef0e.jpg
END:VEVENT
BEGIN:VEVENT
DTSTART;TZID=America/Los_Angeles:20250912T220000
DTEND;TZID=America/Los_Angeles:20250913T020000
DTSTAMP:20260425T122151
CREATED:20250910T081214Z
LAST-MODIFIED:20250910T081214Z
UID:10000144-1757714400-1757728800@urbansociety.life
SUMMARY:AFROBEATS GASLAMP
DESCRIPTION:The unfiltered African music experience live in Downtown San Diego\n\n\nJoin us at our highly-anticipated event bringing the unfiltered AFRICAN PARTY EXPERIENCE to all those who love the culture! \nGrab your significant other\, your favorite friends and your best dance moves to escape to the BIGGEST AFROBEATS PARTY in Downtown San Diego presented to you by Umoja Entertainment. We’re bringing the best vibes new and old with music curated by some of the best DJs! \nWe’ll be at VYBZ NIGHTCLUB\, 840 Fifth Avenue\, San Diego\, CA 92101 playing all your favorite Afrobeats\, Hip-Hop\, Dancehall\, Afro-House and Amapiano with two full bars + awesome ambiance. \nYou don’t want to miss this edition of AFROBEATS GASLAMP! \nBottle service: Call or text 619-268-1349 and/or email team@umoja-ent.com for the bottle services info\, birthdays & packages. \nEvent is 21+ \nID must be presented
URL:https://urbansociety.life/event/afrobeats-gaslamp/
LOCATION:VYBZ Kitchen & Lounge\, 840 Fifth Avenue\, #100\, San Diego\, CA\, 92101\, United States
ATTACH;FMTTYPE=image/jpeg:https://urbansociety.life/wp-content/uploads/2025/09/80848eca950b3a482f4054479b337cf8.jpg
END:VEVENT
END:VCALENDAR