BEGIN:VCALENDAR
VERSION:2.0
PRODID:-//Urban Society.Life - ECPv6.15.20//NONSGML v1.0//EN
CALSCALE:GREGORIAN
METHOD:PUBLISH
X-WR-CALNAME:Urban Society.Life
X-ORIGINAL-URL:https://urbansociety.life
X-WR-CALDESC:Events for Urban Society.Life
REFRESH-INTERVAL;VALUE=DURATION:PT1H
X-Robots-Tag:noindex
X-PUBLISHED-TTL:PT1H
BEGIN:VTIMEZONE
TZID:America/Los_Angeles
BEGIN:DAYLIGHT
TZOFFSETFROM:-0800
TZOFFSETTO:-0700
TZNAME:PDT
DTSTART:20250309T100000
END:DAYLIGHT
BEGIN:STANDARD
TZOFFSETFROM:-0700
TZOFFSETTO:-0800
TZNAME:PST
DTSTART:20251102T090000
END:STANDARD
BEGIN:DAYLIGHT
TZOFFSETFROM:-0800
TZOFFSETTO:-0700
TZNAME:PDT
DTSTART:20260308T100000
END:DAYLIGHT
BEGIN:STANDARD
TZOFFSETFROM:-0700
TZOFFSETTO:-0800
TZNAME:PST
DTSTART:20261101T090000
END:STANDARD
BEGIN:DAYLIGHT
TZOFFSETFROM:-0800
TZOFFSETTO:-0700
TZNAME:PDT
DTSTART:20270314T100000
END:DAYLIGHT
BEGIN:STANDARD
TZOFFSETFROM:-0700
TZOFFSETTO:-0800
TZNAME:PST
DTSTART:20271107T090000
END:STANDARD
END:VTIMEZONE
BEGIN:VEVENT
DTSTART;TZID=America/Los_Angeles:20260208T143000
DTEND;TZID=America/Los_Angeles:20260208T200000
DTSTAMP:20260424T143202
CREATED:20260129T085906Z
LAST-MODIFIED:20260129T090034Z
UID:10000322-1770561000-1770580800@urbansociety.life
SUMMARY:Big Game Viewing Party at PARQ Nightclub (San Diego)
DESCRIPTION:Watch the Big Game on PARQ’s massive LED screen in the heart of the Gaslamp. Expect a high-energy crowd\, game-day vibes\, and drink + food specials all game long—this is not your average sports bar watch party. \nDate: Sunday\, February 8\, 2026 Venue: PARQ Nightclub\, 615 Broadway\, San Diego\, CA 92101 \nWhat to expect\n\n\nThe Big Game on one of the biggest screens in SoCal (big sound\, big energy) \n\n\nDrink specials + a special food menu available during the game \n\n\nSounds by DJ Daniel Gee (music + atmosphere between game moments) \n\n\nA packed\, elevated watch party experience inside one of Downtown’s top nightlife venues
URL:https://urbansociety.life/event/big-game-viewing-party-at-parq-nightclub-san-diego/
LOCATION:Parq Nightclub\, 615 Broadway\, San Diego\, CA\, 92101\, United States
CATEGORIES:Brunch/Day Party
ATTACH;FMTTYPE=image/jpeg:https://urbansociety.life/wp-content/uploads/2026/01/Image_20260115_073319_253.jpeg
END:VEVENT
END:VCALENDAR