BEGIN:VCALENDAR
VERSION:2.0
PRODID:-//Urban Society.Life - ECPv6.15.20//NONSGML v1.0//EN
CALSCALE:GREGORIAN
METHOD:PUBLISH
X-ORIGINAL-URL:https://urbansociety.life
X-WR-CALDESC:Events for Urban Society.Life
REFRESH-INTERVAL;VALUE=DURATION:PT1H
X-Robots-Tag:noindex
X-PUBLISHED-TTL:PT1H
BEGIN:VTIMEZONE
TZID:America/Los_Angeles
BEGIN:DAYLIGHT
TZOFFSETFROM:-0800
TZOFFSETTO:-0700
TZNAME:PDT
DTSTART:20240310T100000
END:DAYLIGHT
BEGIN:STANDARD
TZOFFSETFROM:-0700
TZOFFSETTO:-0800
TZNAME:PST
DTSTART:20241103T090000
END:STANDARD
BEGIN:DAYLIGHT
TZOFFSETFROM:-0800
TZOFFSETTO:-0700
TZNAME:PDT
DTSTART:20250309T100000
END:DAYLIGHT
BEGIN:STANDARD
TZOFFSETFROM:-0700
TZOFFSETTO:-0800
TZNAME:PST
DTSTART:20251102T090000
END:STANDARD
BEGIN:DAYLIGHT
TZOFFSETFROM:-0800
TZOFFSETTO:-0700
TZNAME:PDT
DTSTART:20260308T100000
END:DAYLIGHT
BEGIN:STANDARD
TZOFFSETFROM:-0700
TZOFFSETTO:-0800
TZNAME:PST
DTSTART:20261101T090000
END:STANDARD
BEGIN:DAYLIGHT
TZOFFSETFROM:-0800
TZOFFSETTO:-0700
TZNAME:PDT
DTSTART:20270314T100000
END:DAYLIGHT
BEGIN:STANDARD
TZOFFSETFROM:-0700
TZOFFSETTO:-0800
TZNAME:PST
DTSTART:20271107T090000
END:STANDARD
END:VTIMEZONE
BEGIN:VEVENT
DTSTART;TZID=America/Los_Angeles:20260213T203000
DTEND;TZID=America/Los_Angeles:20260214T010000
DTSTAMP:20260422T164258
CREATED:20260129T073540Z
LAST-MODIFIED:20260129T075923Z
UID:10000320-1771014600-1771030800@urbansociety.life
SUMMARY:A Pre-Valentine's Day Soul Music Experience
DESCRIPTION:Dinner. Live Music. Romance. Celebrate love a little early at A Pre-Valentine’s Day Soul Music Experience—an intimate Dinner & Show experience at El After Social Club designed for date night vibes\, smooth cocktails\, and slow-dance energy. \nDoors open at 8:30PM with live sets from Bearded Pianist & Soul Patrol (9:00–10:00PM) followed by Smooth Operator — A Sade Tribute Band (10:30PM–12:00AM). \nChoose General Admission (entry included; seating not guaranteed) or level up with VIP for guaranteed table seating\, a complimentary glass of champagne\, and access to the VIP Chef’s Selection Menu ($150 minimum food & beverage spend per couple required). Dress to impress. 21+. \n📍 El After Social Club\, 815 Fifth Avenue\, San Diego • Fri\, Feb 13\, 2026 • 8:30PM–12:00AM
URL:https://urbansociety.life/event/a-pre-valentines-day-soul-music-experience/
LOCATION:El After Social Club\, 815 Fifth Avenue\, San Diego\, CA\, 92101\, United States
CATEGORIES:Concert,Live Music,Nightlife
ATTACH;FMTTYPE=image/jpeg:https://urbansociety.life/wp-content/uploads/2026/01/Image_20260114_193157_688.jpeg
ORGANIZER;CN="8gency":MAILTO:ceobiz157@yahoo.com
END:VEVENT
BEGIN:VEVENT
DTSTART;TZID=America/Los_Angeles:20260213T190000
DTEND;TZID=America/Los_Angeles:20260213T230000
DTSTAMP:20260422T164258
CREATED:20260205T010541Z
LAST-MODIFIED:20260205T010541Z
UID:10000323-1771009200-1771023600@urbansociety.life
SUMMARY:Jacquees Live in San Diego (Feb 13\, 2026)
DESCRIPTION:San Diego\, get ready for an R&B night that’s basically made for Valentine’s weekend. Jacquees is coming to town on Friday\, Feb 13\, 2026\, bringing his signature sound\, big records\, and real sing-your-heart-out energy — with special guest Jaz Karis setting the tone. \nWhether you’re pulling up with your partner or coming outside with your crew\, this is the kind of show that turns into a whole vibe. Tickets will move fast as we get closer to the date\, so don’t wait until the last minute.
URL:https://urbansociety.life/event/jacquees-live-in-san-diego-feb-13-2026/
LOCATION:House of Blues San Diego\, 1055 Fifth Ave\, San Diego\, CA\, 92101\, United States
CATEGORIES:Concert,Live Music
ATTACH;FMTTYPE=image/jpeg:https://urbansociety.life/wp-content/uploads/2026/02/Static_Social-Facebook_1200x630_Jacquee_2026_Regional_HouseofBluesSanDiego_0213.jpg
END:VEVENT
BEGIN:VEVENT
DTSTART;TZID=America/Los_Angeles:20260114T190000
DTEND;TZID=America/Los_Angeles:20260114T220000
DTSTAMP:20260422T164258
CREATED:20251218T004535Z
LAST-MODIFIED:20251218T004935Z
UID:10000318-1768417200-1768428000@urbansociety.life
SUMMARY:Berner Live in Concert | House of Blues San Diego
DESCRIPTION:West Coast rap heavyweight Berner hits the stage at the House of Blues San Diego for a high-energy live concert showcasing his signature sound\, entrepreneurial influence\, and fan-favorite tracks. Known for his consistent releases and deep connection to hip-hop culture\, Berner delivers an authentic concert experience that resonates with longtime fans and newcomers alike. \nSet inside one of San Diego’s most iconic music venues\, this show promises booming sound\, strong visuals\, and a crowd that knows every lyric. Whether you follow Berner’s music\, his business ventures\, or both\, this is a night built for real hip-hop fans. \nTickets are on sale now\, and early arrival is recommended for the best concert experience.
URL:https://urbansociety.life/event/berner-live-in-concert-house-of-blues-san-diego/
LOCATION:House of Blues San Diego\, 1055 Fifth Ave\, San Diego\, CA\, 92101\, United States
CATEGORIES:Concert,Live Music
ATTACH;FMTTYPE=image/jpeg:https://urbansociety.life/wp-content/uploads/2025/12/Static_Social-X-Twitter_800x419_Berner_2026_Regional_HouseofBluesSanDiego_0114.jpg
END:VEVENT
BEGIN:VEVENT
DTSTART;TZID=America/Los_Angeles:20260103T190000
DTEND;TZID=America/Los_Angeles:20260103T213000
DTSTAMP:20260422T164258
CREATED:20251218T003703Z
LAST-MODIFIED:20251218T003703Z
UID:10000317-1767466800-1767475800@urbansociety.life
SUMMARY:Bone Thugs-N-Harmony Live in Concert | Observatory North Park
DESCRIPTION:Hip-hop legends Bone Thugs-N-Harmony bring their iconic sound to The Observatory North Park on January 3\, 2026\, for an unforgettable live concert in San Diego. Known for their rapid-fire flows\, melodic harmonies\, and timeless hits\, the group continues to influence generations of hip-hop and R&B fans. \nThis intimate venue setting allows fans to experience Bone Thugs-N-Harmony up close as they perform classic tracks alongside fan favorites. From longtime supporters to new listeners\, this show is a must-see for anyone who appreciates legendary West Coast hip-hop performed live. \nStart the new year with a high-energy concert that blends nostalgia\, culture\, and raw musical talent right in the heart of North Park.
URL:https://urbansociety.life/event/bone-thugs-n-harmony-live-in-concert-observatory-north-park/
LOCATION:The Observatory North Park\, 2891 University Avenuue\, San Diego\, CA\, 92104\, United States
CATEGORIES:Live Music
ATTACH;FMTTYPE=image/jpeg:https://urbansociety.life/wp-content/uploads/2025/12/Static_Social_1600x800_BoneThugs-N-Harmony_2026_Regional_ObservatoryNorthPark_0103.jpg
END:VEVENT
BEGIN:VEVENT
DTSTART;TZID=America/Los_Angeles:20251220T100000
DTEND;TZID=America/Los_Angeles:20251221T010000
DTSTAMP:20260422T164258
CREATED:20251218T010034Z
LAST-MODIFIED:20251218T010034Z
UID:10000319-1766224800-1766278800@urbansociety.life
SUMMARY:Bearded Pianist – A Soulful Christmas Live at El After Social Club
DESCRIPTION:Get into the holiday spirit with the Bearded Pianist during a special Soulful Christmas Night at El After Social Club in San Diego. This live music experience blends classic Christmas favorites with smooth R&B\, soul\, and jazz influences\, creating a warm and intimate holiday vibe. \nPerformed live from the piano\, the Bearded Pianist delivers a unique twist on seasonal music\, perfect for date night\, group outings\, or anyone looking to enjoy live music in a stylish lounge setting. The atmosphere at El After Social Club sets the tone for a relaxed yet elevated night of holiday celebration. \nThis 21+ event is a perfect way to enjoy live Christmas music with a soulful edge while closing out the year with great sounds and even better energy.
URL:https://urbansociety.life/event/bearded-pianist-a-soulful-christmas-live-at-el-after-social-club/
LOCATION:El After Social Club\, 815 Fifth Avenue\, San Diego\, CA\, 92101\, United States
CATEGORIES:Live Music
ATTACH;FMTTYPE=image/jpeg:https://urbansociety.life/wp-content/uploads/2025/12/Image_20251108_161356_221.jpeg
ORGANIZER;CN="8gency":MAILTO:ceobiz157@yahoo.com
END:VEVENT
BEGIN:VEVENT
DTSTART;TZID=America/Los_Angeles:20250926T193000
DTEND;TZID=America/Los_Angeles:20250926T223000
DTSTAMP:20260422T164258
CREATED:20250810T034224Z
LAST-MODIFIED:20250810T034224Z
UID:10000106-1758915000-1758925800@urbansociety.life
SUMMARY:Bearded Pianist & Poundcake at El After Social Club
DESCRIPTION:Experience R&B\, jazz\, and soulful grooves with Bearded Pianist & Poundcake live Sept 26 at El After Social Club. Get your tickets today!\n\n\nMark your calendars for Friday\, September 26 — an evening of smooth R&B\, jazzy rhythms\, and soulful vibes as Bearded Pianist and Poundcake light up El After Social Club. \nThe Bearded Pianist delivers a rich fusion of R&B and jazz — a far cry from the classical stereotype — creating an intimate\, feel-good soundtrack for your night. Poundcake keeps the energy high with their soulful sound\, perfect for dancing or just soaking up the groove. \n✨ Early Bird Pricing – Lock in your spot now for the best deal.🍹 Food & Drink Specials – Savor delicious bites and refreshing cocktails.🥂 VIP Tables –Book your non-refundable deposit to reserve your premium experience. \n📅 Date: Friday\, September 26🕘 Time: Doors open at 6:30 PM📍 Location: El After Social Club\, Downtown San Diego🎟 21+ Event – Valid ID required \nWhether you’re planning a night out with friends or a special date night\, this is your chance to enjoy an unforgettable evening of live music and great company.
URL:https://urbansociety.life/event/bearded-pianist-poundcake-at-el-after-social-club/
LOCATION:El After Social Club\, 815 Fifth Avenue\, San Diego\, CA\, 92101\, United States
CATEGORIES:Live Music
ATTACH;FMTTYPE=image/jpeg:https://urbansociety.life/wp-content/uploads/2025/08/8b2dfbee0d5bc00524a92dfe8a74d4f4.jpg
END:VEVENT
BEGIN:VEVENT
DTSTART;TZID=America/Los_Angeles:20250920T200000
DTEND;TZID=America/Los_Angeles:20250920T230000
DTSTAMP:20260422T164259
CREATED:20250810T033158Z
LAST-MODIFIED:20250810T033158Z
UID:10000104-1758398400-1758409200@urbansociety.life
SUMMARY:Aminé Live at Cal Coast Credit Union Amphitheatre
DESCRIPTION:Hip-hop innovator and platinum-selling artist Aminé is hitting the stage in San Diego\, and he’s bringing producer\, singer\, and multi-instrumentalist Lido along for an unforgettable night. Known for chart-topping hits like “Caroline\,” “REEL IT IN\,” and “Charmander\,” Aminé’s performances are a high-energy mix of sharp lyricism\, infectious beats\, and electric crowd interaction. \nLido\, celebrated for his genre-bending production and dynamic live sets\, will set the tone with a performance that blends R&B\, electronic\, and hip-hop vibes. \n🎟 Don’t miss this one-night-only event at the scenic Cal Coast Credit Union Amphitheatre\, where the music\, atmosphere\, and energy promise a show that hits different. \nGet Tickets Now
URL:https://urbansociety.life/event/amine-live-at-cal-coast-credit-union-amphitheatre/
LOCATION:Cal Coast Credit Union Open Air Theatre at SDSU\, 5500 Campanile Drive\, San Diego\, CA\, 92113\, United States
CATEGORIES:Concert,Live Music
ATTACH;FMTTYPE=image/jpeg:https://urbansociety.life/wp-content/uploads/2025/08/Static_Social-Instagram_1080x1350_Amine_2025_Regional_CalCoastCreditUnionOpenAirTheatre_0920.jpg
END:VEVENT
BEGIN:VEVENT
DTSTART;TZID=America/Los_Angeles:20250920T193000
DTEND;TZID=America/Los_Angeles:20250920T223000
DTSTAMP:20260422T164259
CREATED:20250810T034045Z
LAST-MODIFIED:20250810T034045Z
UID:10000105-1758396600-1758407400@urbansociety.life
SUMMARY:Live Music Night with Erisa Nicole at El After Social Club
DESCRIPTION:Smooth R&B with Erisa Nicole at El After! Early bird tickets\, drink specials\, and VIP tables available. RSVP now!\n\n\nJoin us for an unforgettable evening of soulful vocals\, smooth R&B vibes\, and feel-good energy as Erisa Nicole takes the stage at El After Social Club. Whether you’re here for the music\, the atmosphere\, or the company\, this is a night you won’t want to miss. \nEvent Details: \nDate: September 20\, 2025 \nTime: Doors open at 6:30PM | Show starts at 7:00PM \n📍 Location: El After Social Club\, Downtown San Diego \n🎟 Tickets & RSVP: \n\nEarly Bird Pricing – Grab your spot now for the best deal!\nReserve your tickets through Eventbrite today before they’re gone.\n\n🍹 Food & Drink Specials: Enjoy exclusive drink specials and bites all night long to keep you fueled for the music and good times. \n💫 VIP Tables: Make it a night to remember with the VIP experience — premium seating\, elevated service\, and the perfect view of the stage.📲 Grab your table reservation today! \n🎶 Why You Should Come: \nFrom start to finish\, Erisa Nicole delivers a performance that blends passion\, energy\, and artistry. Bring your crew\, sip on your favorites\, and get lost in the music.
URL:https://urbansociety.life/event/live-music-night-with-erisa-nicole-at-el-after-social-club/
LOCATION:El After Social Club\, 815 Fifth Avenue\, San Diego\, CA\, 92101\, United States
CATEGORIES:Live Music
ATTACH;FMTTYPE=image/jpeg:https://urbansociety.life/wp-content/uploads/2025/08/75ecc7fa09547ee50364e4768cfd4965.jpg
END:VEVENT
BEGIN:VEVENT
DTSTART;TZID=America/Los_Angeles:20250827T193000
DTEND;TZID=America/Los_Angeles:20250827T223000
DTSTAMP:20260422T164259
CREATED:20250724T043137Z
LAST-MODIFIED:20250724T043511Z
UID:10000103-1756323000-1756333800@urbansociety.life
SUMMARY:Nelly's "Where the Party At Tour" featuring Ja Rule\, Eve\, St. Lunatics\, Chingy + Special Guests
DESCRIPTION:Get ready to relive the golden era of hip-hop and R&B as Nelly brings his highly anticipated “Where The Party At” Tour to the North Island Credit Union Amphitheatre in Chula Vista\, CA\, on Wednesday\, August 27\, 2025. This star-studded evening features a powerhouse lineup: Ja Rule\, Eve\, St. Lunatics\, and Chingy. \nCelebrating the 25th anniversary of his groundbreaking album Country Grammar\, Nelly is set to deliver an unforgettable performance\, bringing back hits like “Hot in Herre\,” “Ride Wit Me\,” and “Dilemma.” Ja Rule will ignite the stage with classics such as “Always On Time” and “Livin’ It Up\,” while Eve brings her dynamic energy with tracks like “Let Me Blow Ya Mind” and “Who’s That Girl.” The St. Lunatics\, Nelly’s original crew\, and Chingy will also join the celebration\, ensuring a night packed with nostalgia and high-energy performances. \nEvent Details: \n\nDate: Wednesday\, August 27\, 2025\nTime: 7:30 PM PDT\nVenue: North Island Credit Union Amphitheatre\, 2050 Entertainment Circle\, Chula Vista\, CA 91911\nTickets: Starting at $54.50\n\nWhy Attend? \n\nExperience live renditions of timeless hits from Nelly\, Ja Rule\, Eve\, and more.\nEnjoy a vibrant atmosphere with a lineup that defined an era of music.\nTake advantage of VIP packages for premium seating and exclusive perks.\n\nTicket Information:Tickets are available through Live Nation and Ticketmaster. Secure your spot now before they sell out! \nDon’t miss this epic night of music and memories. Grab your tickets today and get ready to party like it’s the early 2000s!
URL:https://urbansociety.life/event/nellys-where-the-party-at-tour-featuring-ja-role-eve-st-lunatics-chingy-special-guests/
LOCATION:North Island Credit Union Amphitheatre\, 2050 Entertainment Circle\, Chula Vista\, CA\, 91911\, United States
CATEGORIES:Concert,Live Music
ATTACH;FMTTYPE=image/jpeg:https://urbansociety.life/wp-content/uploads/2025/07/Static_Social-FacebookPR_1200x630_Nelly_2025_Regional_NorthIslandCreditUnionAmphitheatre_0827.jpg
END:VEVENT
BEGIN:VEVENT
DTSTART;TZID=America/Los_Angeles:20250823T210000
DTEND;TZID=America/Los_Angeles:20250824T020000
DTSTAMP:20260422T164259
CREATED:20250810T034026Z
LAST-MODIFIED:20250810T034026Z
UID:10000102-1755982800-1756000800@urbansociety.life
SUMMARY:Soul'D at Saturday with Mr. Hek + Live Music with Abe & Friends
DESCRIPTION:Your favorite party is back with Mr. Hek on the decks and Abe & Friends bringing you live music at El After. 21+ only. VIP tables available.\n\n\nJoin us for Soul’d Out Saturday at El After Social Club\, where we bring you the best of R&B\, Hip Hop\, and Feel Good music all night long! On August 23\, 2025\, we’re taking it to the next level with an unforgettable night of dancing\, live performances\, and good vibes. \nLive Music: 9:00 PM – 10:30 PM Get ready to groove as Abe & Friends take the stage! They’ll be performing an energetic mix of R&B and dance music\, creating the perfect ambiance to get the night started. Whether you’re here for the live tunes or the DJ set\, the music will keep you moving from start to finish. \nThe Party Continues with Mr. Hek After the live set\, DJ Mr. Hek will take over the decks\, spinning the best in R&B\, Hip Hop\, and Feel Good Music. The vibe is set to be high-energy\, with a crowd ready to dance the night away. Whether you’re looking to vibe with old-school hits or modern jams\, Mr. Hek has got you covered. \nWhat to Expect: \n\nLive Music by Abe & Friends (9:00 PM – 10:30 PM)\nDJ Set by Mr. Hek for the rest of the night\nDance floor filled with the best R&B\, Hip Hop\, and Feel-Good music\nExclusive VIP tables with bottle service (text (913) 486-0863 for reservations)\nVibrant\, intimate atmosphere at El After Social Club in the heart of Downtown San Diego\n\nEvent Details: \n\nDate: Saturday\,August 23\, 2025\nTime: Doors open at 9:00 PM\, live music from 9:00 PM – 10:30 PM\, DJ set until close (2:00 AM)\nLocation: El After Social Club\, 815 5th Avenue\, San Diego\, CA\nAge Requirement: 21+\nTickets: Free with RSVP before the time indicated on your ticket\, after that time you are subject to pay a cover charge.\n\nVIP Tables:Want to elevate your experience? VIP tables are available with bottle service. Reserve now to guarantee a spot in the exclusive section. Text (913) 486-0863 for more details. \nDon’t miss out on Soul’d Out Saturday! Whether you’re coming for the live music\, the incredible vibes\, or the unmatched energy\, this night is sure to be unforgettable. Get your tickets now before they sell out!
URL:https://urbansociety.life/event/sould-at-saturday-with-mr-hek-live-music-with-abe-friends-2/
LOCATION:El After Social Club\, 815 Fifth Avenue\, San Diego\, CA\, 92101\, United States
CATEGORIES:Live Music,Nightlife
ATTACH;FMTTYPE=image/jpeg:https://urbansociety.life/wp-content/uploads/2025/07/37ba630385d387f3c1d4c024268306ab.jpg
END:VEVENT
BEGIN:VEVENT
DTSTART;TZID=America/Los_Angeles:20250809T210000
DTEND;TZID=America/Los_Angeles:20250810T020000
DTSTAMP:20260422T164259
CREATED:20250719T012103Z
LAST-MODIFIED:20250810T033737Z
UID:10000101-1754773200-1754791200@urbansociety.life
SUMMARY:Soul'D at Saturday with Mr. Hek + Live Music with Abe & Friends
DESCRIPTION:Your favorite party is back with Mr. Hek on the decks and Abe & Friends bringing you live music at El After. 21+ only. VIP tables available.\n\n\nJoin us for Soul’d Out Saturday at El After Social Club\, where we bring you the best of R&B\, Hip Hop\, and Feel Good music all night long! On August 9\, 2025\, we’re taking it to the next level with an unforgettable night of dancing\, live performances\, and good vibes. \nLive Music: 9:00 PM – 10:30 PMGet ready to groove as Abe & Friends take the stage! They’ll be performing an energetic mix of R&B and dance music\, creating the perfect ambiance to get the night started. Whether you’re here for the live tunes or the DJ set\, the music will keep you moving from start to finish. \nThe Party Continues with Mr. HekAfter the live set\, DJ Mr. Hek will take over the decks\, spinning the best in R&B\, Hip Hop\, and Feel Good Music. The vibe is set to be high-energy\, with a crowd ready to dance the night away. Whether you’re looking to vibe with old-school hits or modern jams\, Mr. Hek has got you covered. \nWhat to Expect: \n\nLive Music by Abe & Friends (9:00 PM – 10:30 PM)\nDJ Set by Mr. Hek for the rest of the night\nDance floor filled with the best R&B\, Hip Hop\, and Feel-Good music\nExclusive VIP tables with bottle service (text (913) 486-0863 for reservations)\nVibrant\, intimate atmosphere at El After Social Club in the heart of Downtown San Diego\n\nEvent Details: \n\nDate: Saturday\,August 9\, 2025\nTime: Doors open at 9:00 PM\, live music from 9:00 PM – 10:30 PM\, DJ set until close (2:00 AM)\nLocation: El After Social Club\, 815 5th Avenue\, San Diego\, CA\nAge Requirement: 21+\nTickets: Free with RSVP before the time indicated on your ticket\, after that time you are subject to pay a cover charge.\n\nVIP Tables:Want to elevate your experience? VIP tables are available with bottle service. Reserve now to guarantee a spot in the exclusive section. Text (913) 486-0863 for more details. \nDon’t miss out on Soul’d Out Saturday! Whether you’re coming for the live music\, the incredible vibes\, or the unmatched energy\, this night is sure to be unforgettable. Get your tickets now before they sell out!
URL:https://urbansociety.life/event/sould-at-saturday-with-mr-hek-live-music-with-abe-friends/
LOCATION:El After Social Club\, 815 Fifth Avenue\, San Diego\, CA\, 92101\, United States
CATEGORIES:Live Music,Nightlife
ATTACH;FMTTYPE=image/jpeg:https://urbansociety.life/wp-content/uploads/2025/07/3e1004b08ef53949f0345a3ebe3ae75f.jpg
END:VEVENT
BEGIN:VEVENT
DTSTART;TZID=America/Los_Angeles:20250722T190000
DTEND;TZID=America/Los_Angeles:20250722T223000
DTSTAMP:20260422T164259
CREATED:20250702T053524Z
LAST-MODIFIED:20250706T214053Z
UID:10000032-1753210800-1753223400@urbansociety.life
SUMMARY:Rakim @ House of Blues
DESCRIPTION:Catch Rakim Live at the House of Blues – July 22\, 2025Don’t miss a legendary night with Rakim\, one of hip-hop’s most iconic MCs\, at the House of Blues San Diego! Experience his timeless hits and undeniable influence on the genre. Tickets are on sale now – secure yours before they’re gone!
URL:https://urbansociety.life/event/rakim-house-of-blues/
LOCATION:House of Blues San Diego\, 1055 Fifth Ave\, San Diego\, CA\, 92101\, United States
CATEGORIES:Live Music,Nightlife
ATTACH;FMTTYPE=image/jpeg:https://urbansociety.life/wp-content/uploads/2025/07/Static_Social-Facebook_1200x630_rakim_2025_Regional_HouseofBluesSanDiego_0722.jpg
END:VEVENT
END:VCALENDAR