BEGIN:VCALENDAR
VERSION:2.0
PRODID:-//Urban Society.Life - ECPv6.15.20//NONSGML v1.0//EN
CALSCALE:GREGORIAN
METHOD:PUBLISH
X-WR-CALNAME:Urban Society.Life
X-ORIGINAL-URL:https://urbansociety.life
X-WR-CALDESC:Events for Urban Society.Life
REFRESH-INTERVAL;VALUE=DURATION:PT1H
X-Robots-Tag:noindex
X-PUBLISHED-TTL:PT1H
BEGIN:VTIMEZONE
TZID:America/Los_Angeles
BEGIN:DAYLIGHT
TZOFFSETFROM:-0800
TZOFFSETTO:-0700
TZNAME:PDT
DTSTART:20240310T100000
END:DAYLIGHT
BEGIN:STANDARD
TZOFFSETFROM:-0700
TZOFFSETTO:-0800
TZNAME:PST
DTSTART:20241103T090000
END:STANDARD
BEGIN:DAYLIGHT
TZOFFSETFROM:-0800
TZOFFSETTO:-0700
TZNAME:PDT
DTSTART:20250309T100000
END:DAYLIGHT
BEGIN:STANDARD
TZOFFSETFROM:-0700
TZOFFSETTO:-0800
TZNAME:PST
DTSTART:20251102T090000
END:STANDARD
BEGIN:DAYLIGHT
TZOFFSETFROM:-0800
TZOFFSETTO:-0700
TZNAME:PDT
DTSTART:20260308T100000
END:DAYLIGHT
BEGIN:STANDARD
TZOFFSETFROM:-0700
TZOFFSETTO:-0800
TZNAME:PST
DTSTART:20261101T090000
END:STANDARD
END:VTIMEZONE
BEGIN:VEVENT
DTSTART;TZID=America/Los_Angeles:20250920T200000
DTEND;TZID=America/Los_Angeles:20250920T230000
DTSTAMP:20260420T150204
CREATED:20250810T033158Z
LAST-MODIFIED:20250810T033158Z
UID:10000104-1758398400-1758409200@urbansociety.life
SUMMARY:Aminé Live at Cal Coast Credit Union Amphitheatre
DESCRIPTION:Hip-hop innovator and platinum-selling artist Aminé is hitting the stage in San Diego\, and he’s bringing producer\, singer\, and multi-instrumentalist Lido along for an unforgettable night. Known for chart-topping hits like “Caroline\,” “REEL IT IN\,” and “Charmander\,” Aminé’s performances are a high-energy mix of sharp lyricism\, infectious beats\, and electric crowd interaction. \nLido\, celebrated for his genre-bending production and dynamic live sets\, will set the tone with a performance that blends R&B\, electronic\, and hip-hop vibes. \n🎟 Don’t miss this one-night-only event at the scenic Cal Coast Credit Union Amphitheatre\, where the music\, atmosphere\, and energy promise a show that hits different. \nGet Tickets Now
URL:https://urbansociety.life/event/amine-live-at-cal-coast-credit-union-amphitheatre/
LOCATION:Cal Coast Credit Union Open Air Theatre at SDSU\, 5500 Campanile Drive\, San Diego\, CA\, 92113\, United States
CATEGORIES:Concert,Live Music
ATTACH;FMTTYPE=image/jpeg:https://urbansociety.life/wp-content/uploads/2025/08/Static_Social-Instagram_1080x1350_Amine_2025_Regional_CalCoastCreditUnionOpenAirTheatre_0920.jpg
END:VEVENT
END:VCALENDAR